Workbook

Sheet 個人種目　申込用紙
C1: 茨城マスターズスイミングフェスティバル２０２７（無登録用） | O1: 個人申込書 （書式No２）
A2: 団体名 | E2: 団体名略称 | I2: 団体略称（ﾌﾘｶﾞﾅ） | O2: ※カタカナは半角で ※生年月日は8桁で 記入例 2026年01月01
A6: 連 番 | B6: 性 別 | C6: ﾌﾘｶﾞﾅ（半角） | D6: 生年月日(8桁) | G6: 年齢 | H6: 区分 | I6: 距離 | J6: エントリー | K6: 申込タイム（半角） | N6: プログラムが必要な方は〇印を入力 | AA6: № | AB6: 所属 | AC6: ﾌﾘｶﾞﾅ | AD6: 名前 | AE6: ﾌﾘｶﾞﾅ | AF6: 性別 | AG6: 生年月日 | AH6: 区分 | AI6: エントリ１ | AJ6: 距離１ | AK6: エントリ１ | AL6: タイム１ | AM6: エントリ２ | AN6: 距離２ | AO6: エントリ２ | AP6: タイム２ | AQ6: エントリ３ | AR6: 距離３ | AS6: エントリ３ | AT6: タイム３
C7: 氏名（漢字） | D7: 西暦 | E7: 月 | F7: 日 | K7: 分 | L7: 秒 | M7: 1/100 | T7: なし | V7: 男 | W7: 自由形 | X7: ﾌﾘｰﾘﾚ- | Y7: 25 | Z7: .
A8: 1 | T8: シングル | V8: 女 | W8: 背泳ぎ | X8: ﾒﾄﾞﾚｰﾘﾚｰ | Y8: 50 | Z8: . | AA8: =A8 -> 1 | AB8: =$E$3 -> 0 | AC8: =$I$3 -> 0 | AD8: =C9 -> 0 | AE8: =C8 -> 0 | AF8: =IF(B8="男",1,IF(B8="女",2,"")) | AG8: =D8&E8&F8 | AH8: =H8 -> 0 | AI8: =IF(J8="自由形",1,IF(J8="背泳ぎ",2,IF(J8="平泳ぎ",3,IF(J8="バタフライ",4,IF(J8="個人メドレー",5,""))))) | AJ8: =IF(I8=25,"0025",IF(I8=50,"0050",IF(I8=100,"0100",""))) | AK8: =AI8&AJ8 | AL8: =K8&L8&Z8&M8 -> . | AM8: =IF(J9="自由形",1,IF(J9="背泳ぎ",2,IF(J9="平泳ぎ",3,IF(J9="バタフライ",4,IF(J9="個人メドレー",5,""))))) | AN8: =IF(I9=25,"0025",IF(I9=50,"0050",IF(I9=100,"0100",""))) | AO8: =AM8&AN8 | AP8: =K9&L9&Z8&M9 -> . | AQ8: =IF(J10="自由形",1,IF(J10="背泳ぎ",2,IF(J10="平泳ぎ",3,IF(J10="バタフライ",4,IF(J10="個人メドレー",5,""))))) | AR8: =IF(I10=25,"0025",IF(I10=50,"0050",IF(I10=100,"0100",""))) | AS8: =AQ8&AR8 | AT8: =K10&L10&Z8&M10 -> .
T9: ツイン | W9: 平泳ぎ | Y9: 100 | Z9: .
W10: バタフライ | Y10: 200 | Z10: .
A11: 2 | W11: 個人メドレー | Y11: 400 | Z11: . | AA11: =A11 -> 2 | AB11: =$E$3 -> 0 | AC11: =$I$3 -> 0 | AD11: =C12 -> 0 | AE11: =C11 -> 0 | AF11: =IF(B11="男",1,IF(B11="女",2,"")) | AG11: =D11&E11&F11 | AH11: =H11 -> 0 | AI11: =IF(J11="自由形",1,IF(J11="背泳ぎ",2,IF(J11="平泳ぎ",3,IF(J11="バタフライ",4,IF(J11="個人メドレー",5,""))))) | AJ11: =IF(I11=25,"0025",IF(I11=50,"0050",IF(I11=100,"0100",""))) | AK11: =AI11&AJ11 | AL11: =K11&L11&Z11&M11 -> . | AM11: =IF(J12="自由形",1,IF(J12="背泳ぎ",2,IF(J12="平泳ぎ",3,IF(J12="バタフライ",4,IF(J12="個人メドレー",5,""))))) | AN11: =IF(I12=25,"0025",IF(I12=50,"0050",IF(I12=100,"0100",""))) | AO11: =AM11&AN11 | AP11: =K12&L12&Z11&M12 -> . | AQ11: =IF(J13="自由形",1,IF(J13="背泳ぎ",2,IF(J13="平泳ぎ",3,IF(J13="バタフライ",4,IF(J13="個人メドレー",5,""))))) | AR11: =IF(I13=25,"0025",IF(I13=50,"0050",IF(I13=100,"0100",""))) | AS11: =AQ11&AR11 | AT11: =K13&L13&Z11&M13 -> .
Y12: 800 | Z12: .
T13: ○ | Y13: 1500 | Z13: .
A14: 3 | Z14: . | AA14: =A14 -> 3 | AB14: =$E$3 -> 0 | AC14: =$I$3 -> 0 | AD14: =C15 -> 0 | AE14: =C14 -> 0 | AF14: =IF(B14="男",1,IF(B14="女",2,"")) | AG14: =D14&E14&F14 | AH14: =H14 -> 0 | AI14: =IF(J14="自由形",1,IF(J14="背泳ぎ",2,IF(J14="平泳ぎ",3,IF(J14="バタフライ",4,IF(J14="個人メドレー",5,""))))) | AJ14: =IF(I14=25,"0025",IF(I14=50,"0050",IF(I14=100,"0100",""))) | AK14: =AI14&AJ14 | AL14: =K14&L14&Z14&M14 -> . | AM14: =IF(J15="自由形",1,IF(J15="背泳ぎ",2,IF(J15="平泳ぎ",3,IF(J15="バタフライ",4,IF(J15="個人メドレー",5,""))))) | AN14: =IF(I15=25,"0025",IF(I15=50,"0050",IF(I15=100,"0100",""))) | AO14: =AM14&AN14 | AP14: =K15&L15&Z14&M15 -> . | AQ14: =IF(J16="自由形",1,IF(J16="背泳ぎ",2,IF(J16="平泳ぎ",3,IF(J16="バタフライ",4,IF(J16="個人メドレー",5,""))))) | AR14: =IF(I16=25,"0025",IF(I16=50,"0050",IF(I16=100,"0100",""))) | AS14: =AQ14&AR14 | AT14: =K16&L16&Z14&M16 -> .
W15: 18（18～24） | Z15: .
W16: 25（25～29） | Z16: .
A17: 4 | W17: 30（30～34） | Z17: . | AA17: =A17 -> 4 | AB17: =$E$3 -> 0 | AC17: =$I$3 -> 0 | AD17: =C18 -> 0 | AE17: =C17 -> 0 | AF17: =IF(B17="男",1,IF(B17="女",2,"")) | AG17: =D17&E17&F17 | AH17: =H17 -> 0 | AI17: =IF(J17="自由形",1,IF(J17="背泳ぎ",2,IF(J17="平泳ぎ",3,IF(J17="バタフライ",4,IF(J17="個人メドレー",5,""))))) | AJ17: =IF(I17=25,"0025",IF(I17=50,"0050",IF(I17=100,"0100",""))) | AK17: =AI17&AJ17 | AL17: =K17&L17&Z17&M17 -> . | AM17: =IF(J18="自由形",1,IF(J18="背泳ぎ",2,IF(J18="平泳ぎ",3,IF(J18="バタフライ",4,IF(J18="個人メドレー",5,""))))) | AN17: =IF(I18=25,"0025",IF(I18=50,"0050",IF(I18=100,"0100",""))) | AO17: =AM17&AN17 | AP17: =K18&L18&Z17&M18 -> . | AQ17: =IF(J19="自由形",1,IF(J19="背泳ぎ",2,IF(J19="平泳ぎ",3,IF(J19="バタフライ",4,IF(J19="個人メドレー",5,""))))) | AR17: =IF(I19=25,"0025",IF(I19=50,"0050",IF(I19=100,"0100",""))) | AS17: =AQ17&AR17 | AT17: =K19&L19&Z17&M19 -> .
T18: 未接種 | W18: 35（35～39） | Z18: .
T19: 1回 | W19: 40（40～44） | Z19: .
A20: 5 | T20: 2回 | W20: 45（45～49） | Z20: . | AA20: =A20 -> 5 | AB20: =$E$3 -> 0 | AC20: =$I$3 -> 0 | AD20: =C21 -> 0 | AE20: =C20 -> 0 | AF20: =IF(B20="男",1,IF(B20="女",2,"")) | AG20: =D20&E20&F20 | AH20: =H20 -> 0 | AI20: =IF(J20="自由形",1,IF(J20="背泳ぎ",2,IF(J20="平泳ぎ",3,IF(J20="バタフライ",4,IF(J20="個人メドレー",5,""))))) | AJ20: =IF(I20=25,"0025",IF(I20=50,"0050",IF(I20=100,"0100",""))) | AK20: =AI20&AJ20 | AL20: =K20&L20&Z20&M20 -> . | AM20: =IF(J21="自由形",1,IF(J21="背泳ぎ",2,IF(J21="平泳ぎ",3,IF(J21="バタフライ",4,IF(J21="個人メドレー",5,""))))) | AN20: =IF(I21=25,"0025",IF(I21=50,"0050",IF(I21=100,"0100",""))) | AO20: =AM20&AN20 | AP20: =K21&L21&Z20&M21 -> . | AQ20: =IF(J22="自由形",1,IF(J22="背泳ぎ",2,IF(J22="平泳ぎ",3,IF(J22="バタフライ",4,IF(J22="個人メドレー",5,""))))) | AR20: =IF(I22=25,"0025",IF(I22=50,"0050",IF(I22=100,"0100",""))) | AS20: =AQ20&AR20 | AT20: =K22&L22&Z20&M22 -> .
W21: 50（50～54） | Z21: .
W22: 55（55～59） | Z22: .
A23: 6 | W23: 60（60～64） | Z23: . | AA23: =A23 -> 6 | AB23: =$E$3 -> 0 | AC23: =$I$3 -> 0 | AD23: =C24 -> 0 | AE23: =C23 -> 0 | AF23: =IF(B23="男",1,IF(B23="女",2,"")) | AG23: =D23&E23&F23 | AH23: =H23 -> 0 | AI23: =IF(J23="自由形",1,IF(J23="背泳ぎ",2,IF(J23="平泳ぎ",3,IF(J23="バタフライ",4,IF(J23="個人メドレー",5,""))))) | AJ23: =IF(I23=25,"0025",IF(I23=50,"0050",IF(I23=100,"0100",""))) | AK23: =AI23&AJ23 | AL23: =K23&L23&Z23&M23 -> . | AM23: =IF(J24="自由形",1,IF(J24="背泳ぎ",2,IF(J24="平泳ぎ",3,IF(J24="バタフライ",4,IF(J24="個人メドレー",5,""))))) | AN23: =IF(I24=25,"0025",IF(I24=50,"0050",IF(I24=100,"0100",""))) | AO23: =AM23&AN23 | AP23: =K24&L24&Z23&M24 -> . | AQ23: =IF(J25="自由形",1,IF(J25="背泳ぎ",2,IF(J25="平泳ぎ",3,IF(J25="バタフライ",4,IF(J25="個人メドレー",5,""))))) | AR23: =IF(I25=25,"0025",IF(I25=50,"0050",IF(I25=100,"0100",""))) | AS23: =AQ23&AR23 | AT23: =K25&L25&Z23&M25 -> .
W24: 65（65～69） | Z24: .
W25: 70（70～74） | Z25: .
A26: 7 | W26: 75（75～79） | Z26: . | AA26: =A26 -> 7 | AB26: =$E$3 -> 0 | AC26: =$I$3 -> 0 | AD26: =C27 -> 0 | AE26: =C26 -> 0 | AF26: =IF(B26="男",1,IF(B26="女",2,"")) | AG26: =D26&E26&F26 | AH26: =H26 -> 0 | AI26: =IF(J26="自由形",1,IF(J26="背泳ぎ",2,IF(J26="平泳ぎ",3,IF(J26="バタフライ",4,IF(J26="個人メドレー",5,""))))) | AJ26: =IF(I26=25,"0025",IF(I26=50,"0050",IF(I26=100,"0100",""))) | AK26: =AI26&AJ26 | AL26: =K26&L26&Z26&M26 -> . | AM26: =IF(J27="自由形",1,IF(J27="背泳ぎ",2,IF(J27="平泳ぎ",3,IF(J27="バタフライ",4,IF(J27="個人メドレー",5,""))))) | AN26: =IF(I27=25,"0025",IF(I27=50,"0050",IF(I27=100,"0100",""))) | AO26: =AM26&AN26 | AP26: =K27&L27&Z26&M27 -> . | AQ26: =IF(J28="自由形",1,IF(J28="背泳ぎ",2,IF(J28="平泳ぎ",3,IF(J28="バタフライ",4,IF(J28="個人メドレー",5,""))))) | AR26: =IF(I28=25,"0025",IF(I28=50,"0050",IF(I28=100,"0100",""))) | AS26: =AQ26&AR26 | AT26: =K28&L28&Z26&M28 -> .
W27: 80（80～84） | Z27: .
W28: 85（85～89） | Z28: .
A29: 8 | W29: 80（90～94） | Z29: . | AA29: =A29 -> 8 | AB29: =$E$3 -> 0 | AC29: =$I$3 -> 0 | AD29: =C30 -> 0 | AE29: =C29 -> 0 | AF29: =IF(B29="男",1,IF(B29="女",2,"")) | AG29: =D29&E29&F29 | AH29: =H29 -> 0 | AI29: =IF(J29="自由形",1,IF(J29="背泳ぎ",2,IF(J29="平泳ぎ",3,IF(J29="バタフライ",4,IF(J29="個人メドレー",5,""))))) | AJ29: =IF(I29=25,"0025",IF(I29=50,"0050",IF(I29=100,"0100",""))) | AK29: =AI29&AJ29 | AL29: =K29&L29&Z29&M29 -> . | AM29: =IF(J30="自由形",1,IF(J30="背泳ぎ",2,IF(J30="平泳ぎ",3,IF(J30="バタフライ",4,IF(J30="個人メドレー",5,""))))) | AN29: =IF(I30=25,"0025",IF(I30=50,"0050",IF(I30=100,"0100",""))) | AO29: =AM29&AN29 | AP29: =K30&L30&Z29&M30 -> . | AQ29: =IF(J31="自由形",1,IF(J31="背泳ぎ",2,IF(J31="平泳ぎ",3,IF(J31="バタフライ",4,IF(J31="個人メドレー",5,""))))) | AR29: =IF(I31=25,"0025",IF(I31=50,"0050",IF(I31=100,"0100",""))) | AS29: =AQ29&AR29 | AT29: =K31&L31&Z29&M31 -> .
W30: 95（95～99） | Z30: .
W31: 100（100～105） | Z31: .
A32: 9 | Z32: . | AA32: =A32 -> 9 | AB32: =$E$3 -> 0 | AC32: =$I$3 -> 0 | AD32: =C33 -> 0 | AE32: =C32 -> 0 | AF32: =IF(B32="男",1,IF(B32="女",2,"")) | AG32: =D32&E32&F32 | AH32: =H32 -> 0 | AI32: =IF(J32="自由形",1,IF(J32="背泳ぎ",2,IF(J32="平泳ぎ",3,IF(J32="バタフライ",4,IF(J32="個人メドレー",5,""))))) | AJ32: =IF(I32=25,"0025",IF(I32=50,"0050",IF(I32=100,"0100",""))) | AK32: =AI32&AJ32 | AL32: =K32&L32&Z32&M32 -> . | AM32: =IF(J33="自由形",1,IF(J33="背泳ぎ",2,IF(J33="平泳ぎ",3,IF(J33="バタフライ",4,IF(J33="個人メドレー",5,""))))) | AN32: =IF(I33=25,"0025",IF(I33=50,"0050",IF(I33=100,"0100",""))) | AO32: =AM32&AN32 | AP32: =K33&L33&Z32&M33 -> . | AQ32: =IF(J34="自由形",1,IF(J34="背泳ぎ",2,IF(J34="平泳ぎ",3,IF(J34="バタフライ",4,IF(J34="個人メドレー",5,""))))) | AR32: =IF(I34=25,"0025",IF(I34=50,"0050",IF(I34=100,"0100",""))) | AS32: =AQ32&AR32 | AT32: =K34&L34&Z32&M34 -> .
Z33: .
Z34: .
A35: 10 | Z35: . | AA35: =A35 -> 10 | AB35: =$E$3 -> 0 | AC35: =$I$3 -> 0 | AD35: =C36 -> 0 | AE35: =C35 -> 0 | AF35: =IF(B35="男",1,IF(B35="女",2,"")) | AG35: =D35&E35&F35 | AH35: =H35 -> 0 | AI35: =IF(J35="自由形",1,IF(J35="背泳ぎ",2,IF(J35="平泳ぎ",3,IF(J35="バタフライ",4,IF(J35="個人メドレー",5,""))))) | AJ35: =IF(I35=25,"0025",IF(I35=50,"0050",IF(I35=100,"0100",""))) | AK35: =AI35&AJ35 | AL35: =K35&L35&Z35&M35 -> . | AM35: =IF(J36="自由形",1,IF(J36="背泳ぎ",2,IF(J36="平泳ぎ",3,IF(J36="バタフライ",4,IF(J36="個人メドレー",5,""))))) | AN35: =IF(I36=25,"0025",IF(I36=50,"0050",IF(I36=100,"0100",""))) | AO35: =AM35&AN35 | AP35: =K36&L36&Z35&M36 -> . | AQ35: =IF(J37="自由形",1,IF(J37="背泳ぎ",2,IF(J37="平泳ぎ",3,IF(J37="バタフライ",4,IF(J37="個人メドレー",5,""))))) | AR35: =IF(I37=25,"0025",IF(I37=50,"0050",IF(I37=100,"0100",""))) | AS35: =AQ35&AR35 | AT35: =K37&L37&Z35&M37 -> .
Z36: .
Z37: .
A38: 11 | Z38: . | AA38: =A38 -> 11 | AB38: =$E$3 -> 0 | AC38: =$I$3 -> 0 | AD38: =C39 -> 0 | AE38: =C38 -> 0 | AF38: =IF(B38="男",1,IF(B38="女",2,"")) | AG38: =D38&E38&F38 | AH38: =H38 -> 0 | AI38: =IF(J38="自由形",1,IF(J38="背泳ぎ",2,IF(J38="平泳ぎ",3,IF(J38="バタフライ",4,IF(J38="個人メドレー",5,""))))) | AJ38: =IF(I38=25,"0025",IF(I38=50,"0050",IF(I38=100,"0100",""))) | AK38: =AI38&AJ38 | AL38: =K38&L38&Z38&M38 -> . | AM38: =IF(J39="自由形",1,IF(J39="背泳ぎ",2,IF(J39="平泳ぎ",3,IF(J39="バタフライ",4,IF(J39="個人メドレー",5,""))))) | AN38: =IF(I39=25,"0025",IF(I39=50,"0050",IF(I39=100,"0100",""))) | AO38: =AM38&AN38 | AP38: =K39&L39&Z38&M39 -> . | AQ38: =IF(J40="自由形",1,IF(J40="背泳ぎ",2,IF(J40="平泳ぎ",3,IF(J40="バタフライ",4,IF(J40="個人メドレー",5,""))))) | AR38: =IF(I40=25,"0025",IF(I40=50,"0050",IF(I40=100,"0100",""))) | AS38: =AQ38&AR38 | AT38: =K40&L40&Z38&M40 -> .
Z39: .
Z40: .
A41: 12 | Z41: . | AA41: =A41 -> 12 | AB41: =$E$3 -> 0 | AC41: =$I$3 -> 0 | AD41: =C42 -> 0 | AE41: =C41 -> 0 | AF41: =IF(B41="男",1,IF(B41="女",2,"")) | AG41: =D41&E41&F41 | AH41: =H41 -> 0 | AI41: =IF(J41="自由形",1,IF(J41="背泳ぎ",2,IF(J41="平泳ぎ",3,IF(J41="バタフライ",4,IF(J41="個人メドレー",5,""))))) | AJ41: =IF(I41=25,"0025",IF(I41=50,"0050",IF(I41=100,"0100",""))) | AK41: =AI41&AJ41 | AL41: =K41&L41&Z41&M41 -> . | AM41: =IF(J42="自由形",1,IF(J42="背泳ぎ",2,IF(J42="平泳ぎ",3,IF(J42="バタフライ",4,IF(J42="個人メドレー",5,""))))) | AN41: =IF(I42=25,"0025",IF(I42=50,"0050",IF(I42=100,"0100",""))) | AO41: =AM41&AN41 | AP41: =K42&L42&Z41&M42 -> . | AQ41: =IF(J43="自由形",1,IF(J43="背泳ぎ",2,IF(J43="平泳ぎ",3,IF(J43="バタフライ",4,IF(J43="個人メドレー",5,""))))) | AR41: =IF(I43=25,"0025",IF(I43=50,"0050",IF(I43=100,"0100",""))) | AS41: =AQ41&AR41 | AT41: =K43&L43&Z41&M43 -> .
Z42: .
Z43: .
...

Sheet リレー種目　申込用紙
C1: 茨城マスターズスイミングフェスティバル２０２７（無登録用） | K1: リレー申込書 （書式No３）
A2: 団体名 | E2: 団体略称 | H2: 団体略称（ﾌﾘｶﾞﾅ）
A6: 連 番 | B6: 性 別 | C6: 区分 | D6: 距離 | E6: エントリー | F6: 申込タイム（半角） | I6: リレーオーダー | V6: № | W6: 所属 | X6: ﾌﾘｶﾞﾅ | Y6: 性別 | Z6: 区分 | AA6: エントリ１ | AB6: 距離１ | AC6: エントリ１ | AD6: タイム１
F7: 分 | G7: 秒 | H7: 1/100 | I7: 選手名 | K7: 性別 | L7: 年齢 | M7: 合計 | U7: .
A8: 1 | D8: 4 × 50 | M8: =SUM(L8:L11) -> 0 | U8: . | V8: =A8 -> 1 | W8: =$A$3 -> 0 | X8: =$H$3 -> 0 | Y8: =IF(B8="男",1,IF(B8="女",2,IF(B8="混合",3,""))) | Z8: =C8 -> 0 | AA8: =IF(E8="ﾌﾘｰﾘﾚ-",6,IF(E8="ﾒﾄﾞﾚｰﾘﾚｰ",7,IF(E8="ﾋﾞｰﾄ板ﾘﾚｰ",7,""))) | AB8: =IF(D8=25,"0025",IF(D8=50,"0050",IF(D8=100,"0100",""))) | AC8: =AA8&AB8 | AD8: =F8&G8&U8&H8 -> .
U10: .
U11: .
A12: 2 | D12: 4 × 50 | M12: =SUM(L12:L15) -> 0 | U12: . | V12: =A12 -> 2 | W12: =$A$3 -> 0 | X12: =$H$3 -> 0 | Y12: =IF(B12="男",1,IF(B12="女",2,IF(B12="混合",3,""))) | Z12: =C12 -> 0 | AA12: =IF(E12="ﾌﾘｰﾘﾚ-",6,IF(E12="ﾒﾄﾞﾚｰﾘﾚｰ",7,IF(E12="ﾋﾞｰﾄ板ﾘﾚｰ",7,""))) | AB12: =IF(D12=25,"0025",IF(D12=50,"0050",IF(D12=100,"0100",""))) | AC12: =AA12&AB12 | AD12: =F12&G12&U12&H12 -> .
U13: .
Q14: 男 | R14: 自由形 | S14: ﾌﾘｰﾘﾚ- | T14: 4 × 25 | U14: .
Q15: 女 | R15: 背泳ぎ | S15: ﾒﾄﾞﾚｰﾘﾚｰ | T15: 4 × 50 | U15: .
A16: 3 | D16: 4 × 50 | M16: =SUM(L16:L19) -> 0 | Q16: 混合 | R16: 平泳ぎ | T16: 4 × 100 | U16: . | V16: =A16 -> 3 | W16: =$A$3 -> 0 | X16: =$H$3 -> 0 | Y16: =IF(B16="男",1,IF(B16="女",2,IF(B16="混合",3,""))) | Z16: =C16 -> 0 | AA16: =IF(E16="ﾌﾘｰﾘﾚ-",6,IF(E16="ﾒﾄﾞﾚｰﾘﾚｰ",7,IF(E16="ﾋﾞｰﾄ板ﾘﾚｰ",7,""))) | AB16: =IF(D16=25,"0025",IF(D16=50,"0050",IF(D16=100,"0100",""))) | AC16: =AA16&AB16 | AD16: =F16&G16&U16&H16 -> .
R17: バタフライ | U17: .
R18: 個人メドレー | U18: .
U19: .
A20: 4 | D20: 4 × 50 | M20: =SUM(L20:L23) -> 0 | U20: . | V20: =A20 -> 4 | W20: =$A$3 -> 0 | X20: =$H$3 -> 0 | Y20: =IF(B20="男",1,IF(B20="女",2,IF(B20="混合",3,""))) | Z20: =C20 -> 0 | AA20: =IF(E20="ﾌﾘｰﾘﾚ-",6,IF(E20="ﾒﾄﾞﾚｰﾘﾚｰ",7,IF(E20="ﾋﾞｰﾄ板ﾘﾚｰ",7,""))) | AB20: =IF(D20=25,"0025",IF(D20=50,"0050",IF(D20=100,"0100",""))) | AC20: =AA20&AB20 | AD20: =F20&G20&U20&H20 -> .
U21: .
R22: 119（72～119） | U22: .
R23: 120（120～159） | U23: .
A24: 5 | D24: 4 × 50 | M24: =SUM(L24:L27) -> 0 | R24: 160（160～199） | U24: . | V24: =A24 -> 5 | W24: =$A$3 -> 0 | X24: =$H$3 -> 0 | Y24: =IF(B24="男",1,IF(B24="女",2,IF(B24="混合",3,""))) | Z24: =C24 -> 0 | AA24: =IF(E24="ﾌﾘｰﾘﾚ-",6,IF(E24="ﾒﾄﾞﾚｰﾘﾚｰ",7,IF(E24="ﾋﾞｰﾄ板ﾘﾚｰ",7,""))) | AB24: =IF(D24=25,"0025",IF(D24=50,"0050",IF(D24=100,"0100",""))) | AC24: =AA24&AB24 | AD24: =F24&G24&U24&H24 -> .
R25: 200（200～239） | U25: .
R26: 240（240～279） | U26: .
R27: 280（280～319） | U27: .
A28: 6 | D28: 4 × 50 | M28: =SUM(L28:L31) -> 0 | R28: 320（320～359） | U28: . | V28: =A28 -> 6 | W28: =$A$3 -> 0 | X28: =$H$3 -> 0 | Y28: =IF(B28="男",1,IF(B28="女",2,IF(B28="混合",3,""))) | Z28: =C28 -> 0 | AA28: =IF(E28="ﾌﾘｰﾘﾚ-",6,IF(E28="ﾒﾄﾞﾚｰﾘﾚｰ",7,IF(E28="ﾋﾞｰﾄ板ﾘﾚｰ",7,""))) | AB28: =IF(D28=25,"0025",IF(D28=50,"0050",IF(D28=100,"0100",""))) | AC28: =AA28&AB28 | AD28: =F28&G28&U28&H28 -> .
R29: 360（360～399） | U29: .
U30: .
U31: .
A32: 7 | D32: 4 × 50 | M32: =SUM(L32:L35) -> 0 | U32: . | V32: =A32 -> 7 | W32: =$A$3 -> 0 | X32: =$H$3 -> 0 | Y32: =IF(B32="男",1,IF(B32="女",2,IF(B32="混合",3,""))) | Z32: =C32 -> 0 | AA32: =IF(E32="ﾌﾘｰﾘﾚ-",6,IF(E32="ﾒﾄﾞﾚｰﾘﾚｰ",7,IF(E32="ﾋﾞｰﾄ板ﾘﾚｰ",7,""))) | AB32: =IF(D32=25,"0025",IF(D32=50,"0050",IF(D32=100,"0100",""))) | AC32: =AA32&AB32 | AD32: =F32&G32&U32&H32 -> .
U33: .
U34: .
U35: .
A36: 8 | D36: 4 × 50 | M36: =SUM(L36:L39) -> 0 | U36: . | V36: =A36 -> 8 | W36: =$A$3 -> 0 | X36: =$H$3 -> 0 | Y36: =IF(B36="男",1,IF(B36="女",2,IF(B36="混合",3,""))) | Z36: =C36 -> 0 | AA36: =IF(E36="ﾌﾘｰﾘﾚ-",6,IF(E36="ﾒﾄﾞﾚｰﾘﾚｰ",7,IF(E36="ﾋﾞｰﾄ板ﾘﾚｰ",7,""))) | AB36: =IF(D36=25,"0025",IF(D36=50,"0050",IF(D36=100,"0100",""))) | AC36: =AA36&AB36 | AD36: =F36&G36&U36&H36 -> .
U37: .
U38: .
U39: .
A40: 9 | D40: 4 × 50 | M40: =SUM(L40:L43) -> 0 | U40: . | V40: =A40 -> 9 | W40: =$A$3 -> 0 | X40: =$H$3 -> 0 | Y40: =IF(B40="男",1,IF(B40="女",2,IF(B40="混合",3,""))) | Z40: =C40 -> 0 | AA40: =IF(E40="ﾌﾘｰﾘﾚ-",6,IF(E40="ﾒﾄﾞﾚｰﾘﾚｰ",7,IF(E40="ﾋﾞｰﾄ板ﾘﾚｰ",7,""))) | AB40: =IF(D40=25,"0025",IF(D40=50,"0050",IF(D40=100,"0100",""))) | AC40: =AA40&AB40 | AD40: =F40&G40&U40&H40 -> .
U41: .
U42: .
U43: .
A44: 10 | D44: 4 × 50 | M44: =SUM(L44:L47) -> 0 | U44: . | V44: =A44 -> 10 | W44: =$A$3 -> 0 | X44: =$H$3 -> 0 | Y44: =IF(B44="男",1,IF(B44="女",2,IF(B44="混合",3,""))) | Z44: =C44 -> 0 | AA44: =IF(E44="ﾌﾘｰﾘﾚ-",6,IF(E44="ﾒﾄﾞﾚｰﾘﾚｰ",7,IF(E44="ﾋﾞｰﾄ板ﾘﾚｰ",7,""))) | AB44: =IF(D44=25,"0025",IF(D44=50,"0050",IF(D44=100,"0100",""))) | AC44: =AA44&AB44 | AD44: =F44&G44&U44&H44 -> .
...

Sheet このシートはさわらないでください（個人）
A1: 選手番号(5) | B1: 旧日水連ｺｰﾄﾞ(12) | C1: 性別(1) | D1: 漢字氏名（30） | E1: ｶﾅ氏名(30) | F1: 生年月日(8) | G1: 学校(1) | H1: 学年(1) | I1: ｸﾗｽ(2) | J1: 新日水連ｺｰﾄﾞ(7) | K1: 所属名1(16) | L1: ｶﾅ所属名1(16) | M1: 所属名2(16) | N1: ｶﾅ所属名2(16) | O1: 所属名3(16) | P1: ｶﾅ所属名3(16) | Q1: 使用所属(1) | R1: ｴﾝﾄﾘｰ1(5) | S1: ｴﾝﾄﾘｰﾀｲﾑ1(7) | T1: ｴﾝﾄﾘｰ2(5) | U1: ｴﾝﾄﾘｰﾀｲﾑ2(7) | V1: ｴﾝﾄﾘｰ3(5) | W1: ｴﾝﾄﾘｰﾀｲﾑ3(7) | X1: ｴﾝﾄﾘｰ4(5) | Y1: ｴﾝﾄﾘｰﾀｲﾑ4(7) | Z1: ｴﾝﾄﾘｰ5(5) | AA1: ｴﾝﾄﾘｰﾀｲﾑ5(7) | AB1: ｴﾝﾄﾘｰ6(1) | AC1: ｴﾝﾄﾘｰﾀｲﾑ6(7) | AD1: ｴﾝﾄﾘｰ7(5) | AE1: ｴﾝﾄﾘｰﾀｲﾑ7(7) | AF1: ｴﾝﾄﾘｰ8(5) | AG1: ｴﾝﾄﾘｰﾀｲﾑ8(7) | AH1: ｴﾝﾄﾘｰ9(5) | AI1: ｴﾝﾄﾘｰﾀｲﾑ9(7) | AJ1: ｴﾝﾄﾘｰ10(5) | AK1: ｴﾝﾄﾘｰﾀｲﾑ10(7)
A2: ='個人種目 申込用紙'!A8 -> 1 | C2: ='個人種目 申込用紙'!AF8 | D2: ='個人種目 申込用紙'!C9 -> 0 | E2: ='個人種目 申込用紙'!C8 -> 0 | F2: ='個人種目 申込用紙'!AG8 | I2: ='個人種目 申込用紙'!AH8 -> 0 | K2: ='個人種目 申込用紙'!AB8 -> 0 | L2: ='個人種目 申込用紙'!AC8 -> 0 | R2: ='個人種目 申込用紙'!AK8 | S2: ='個人種目 申込用紙'!AL8 -> . | T2: ='個人種目 申込用紙'!AO8 | U2: ='個人種目 申込用紙'!AP8 -> . | V2: ='個人種目 申込用紙'!AS8 | W2: ='個人種目 申込用紙'!AT8 -> .
A3: ='個人種目 申込用紙'!A11 -> 2 | C3: ='個人種目 申込用紙'!AF11 | D3: ='個人種目 申込用紙'!C12 -> 0 | E3: ='個人種目 申込用紙'!C11 -> 0 | F3: ='個人種目 申込用紙'!AG11 | I3: ='個人種目 申込用紙'!AH11 -> 0 | K3: ='個人種目 申込用紙'!AB11 -> 0 | L3: ='個人種目 申込用紙'!AC11 -> 0 | R3: ='個人種目 申込用紙'!AK11 | S3: ='個人種目 申込用紙'!AL11 -> . | T3: ='個人種目 申込用紙'!AO11 | U3: ='個人種目 申込用紙'!AP11 -> . | V3: ='個人種目 申込用紙'!AS11 | W3: ='個人種目 申込用紙'!AT11 -> .
A4: ='個人種目 申込用紙'!A14 -> 3 | C4: ='個人種目 申込用紙'!AF14 | D4: ='個人種目 申込用紙'!C15 -> 0 | E4: ='個人種目 申込用紙'!C14 -> 0 | F4: ='個人種目 申込用紙'!AG14 | I4: ='個人種目 申込用紙'!AH14 -> 0 | K4: ='個人種目 申込用紙'!AB14 -> 0 | L4: ='個人種目 申込用紙'!AC14 -> 0 | R4: ='個人種目 申込用紙'!AK14 | S4: ='個人種目 申込用紙'!AL14 -> . | T4: ='個人種目 申込用紙'!AO14 | U4: ='個人種目 申込用紙'!AP14 -> . | V4: ='個人種目 申込用紙'!AS14 | W4: ='個人種目 申込用紙'!AT14 -> .
A5: ='個人種目 申込用紙'!A17 -> 4 | C5: ='個人種目 申込用紙'!AF17 | D5: ='個人種目 申込用紙'!C18 -> 0 | E5: ='個人種目 申込用紙'!C17 -> 0 | F5: ='個人種目 申込用紙'!AG17 | I5: ='個人種目 申込用紙'!AH17 -> 0 | K5: ='個人種目 申込用紙'!AB17 -> 0 | L5: ='個人種目 申込用紙'!AC17 -> 0 | R5: ='個人種目 申込用紙'!AK17 | S5: ='個人種目 申込用紙'!AL17 -> . | T5: ='個人種目 申込用紙'!AO17 | U5: ='個人種目 申込用紙'!AP17 -> . | V5: ='個人種目 申込用紙'!AS17 | W5: ='個人種目 申込用紙'!AT17 -> .
A6: ='個人種目 申込用紙'!A20 -> 5 | C6: ='個人種目 申込用紙'!AF20 | D6: ='個人種目 申込用紙'!C21 -> 0 | E6: ='個人種目 申込用紙'!C20 -> 0 | F6: ='個人種目 申込用紙'!AG20 | I6: ='個人種目 申込用紙'!AH20 -> 0 | K6: ='個人種目 申込用紙'!AB20 -> 0 | L6: ='個人種目 申込用紙'!AC20 -> 0 | R6: ='個人種目 申込用紙'!AK20 | S6: ='個人種目 申込用紙'!AL20 -> . | T6: ='個人種目 申込用紙'!AO20 | U6: ='個人種目 申込用紙'!AP20 -> . | V6: ='個人種目 申込用紙'!AS20 | W6: ='個人種目 申込用紙'!AT20 -> .
A7: ='個人種目 申込用紙'!A23 -> 6 | C7: ='個人種目 申込用紙'!AF23 | D7: ='個人種目 申込用紙'!C24 -> 0 | E7: ='個人種目 申込用紙'!C23 -> 0 | F7: ='個人種目 申込用紙'!AG23 | I7: ='個人種目 申込用紙'!AH23 -> 0 | K7: ='個人種目 申込用紙'!AB23 -> 0 | L7: ='個人種目 申込用紙'!AC23 -> 0 | R7: ='個人種目 申込用紙'!AK23 | S7: ='個人種目 申込用紙'!AL23 -> . | T7: ='個人種目 申込用紙'!AO23 | U7: ='個人種目 申込用紙'!AP23 -> . | V7: ='個人種目 申込用紙'!AS23 | W7: ='個人種目 申込用紙'!AT23 -> .
A8: ='個人種目 申込用紙'!A26 -> 7 | C8: ='個人種目 申込用紙'!AF26 | D8: ='個人種目 申込用紙'!C27 -> 0 | E8: ='個人種目 申込用紙'!C26 -> 0 | F8: ='個人種目 申込用紙'!AG26 | I8: ='個人種目 申込用紙'!AH26 -> 0 | K8: ='個人種目 申込用紙'!AB26 -> 0 | L8: ='個人種目 申込用紙'!AC26 -> 0 | R8: ='個人種目 申込用紙'!AK26 | S8: ='個人種目 申込用紙'!AL26 -> . | T8: ='個人種目 申込用紙'!AO26 | U8: ='個人種目 申込用紙'!AP26 -> . | V8: ='個人種目 申込用紙'!AS26 | W8: ='個人種目 申込用紙'!AT26 -> .
A9: ='個人種目 申込用紙'!A29 -> 8 | C9: ='個人種目 申込用紙'!AF29 | D9: ='個人種目 申込用紙'!C30 -> 0 | E9: ='個人種目 申込用紙'!C29 -> 0 | F9: ='個人種目 申込用紙'!AG29 | I9: ='個人種目 申込用紙'!AH29 -> 0 | K9: ='個人種目 申込用紙'!AB29 -> 0 | L9: ='個人種目 申込用紙'!AC29 -> 0 | R9: ='個人種目 申込用紙'!AK29 | S9: ='個人種目 申込用紙'!AL29 -> . | T9: ='個人種目 申込用紙'!AO29 | U9: ='個人種目 申込用紙'!AP29 -> . | V9: ='個人種目 申込用紙'!AS29 | W9: ='個人種目 申込用紙'!AT29 -> .
A10: ='個人種目 申込用紙'!A32 -> 9 | C10: ='個人種目 申込用紙'!AF32 | D10: ='個人種目 申込用紙'!C33 -> 0 | E10: ='個人種目 申込用紙'!C32 -> 0 | F10: ='個人種目 申込用紙'!AG32 | I10: ='個人種目 申込用紙'!AH32 -> 0 | K10: ='個人種目 申込用紙'!AB32 -> 0 | L10: ='個人種目 申込用紙'!AC32 -> 0 | R10: ='個人種目 申込用紙'!AK32 | S10: ='個人種目 申込用紙'!AL32 -> . | T10: ='個人種目 申込用紙'!AO32 | U10: ='個人種目 申込用紙'!AP32 -> . | V10: ='個人種目 申込用紙'!AS32 | W10: ='個人種目 申込用紙'!AT32 -> .
A11: ='個人種目 申込用紙'!A35 -> 10 | C11: ='個人種目 申込用紙'!AF35 | D11: ='個人種目 申込用紙'!C36 -> 0 | E11: ='個人種目 申込用紙'!C35 -> 0 | F11: ='個人種目 申込用紙'!AG35 | I11: ='個人種目 申込用紙'!AH35 -> 0 | K11: ='個人種目 申込用紙'!AB35 -> 0 | L11: ='個人種目 申込用紙'!AC35 -> 0 | R11: ='個人種目 申込用紙'!AK35 | S11: ='個人種目 申込用紙'!AL35 -> . | T11: ='個人種目 申込用紙'!AO35 | U11: ='個人種目 申込用紙'!AP35 -> . | V11: ='個人種目 申込用紙'!AS35 | W11: ='個人種目 申込用紙'!AT35 -> .
A12: ='個人種目 申込用紙'!A38 -> 11 | C12: ='個人種目 申込用紙'!AF38 | D12: ='個人種目 申込用紙'!C39 -> 0 | E12: ='個人種目 申込用紙'!C38 -> 0 | F12: ='個人種目 申込用紙'!AG38 | I12: ='個人種目 申込用紙'!AH38 -> 0 | K12: ='個人種目 申込用紙'!AB38 -> 0 | L12: ='個人種目 申込用紙'!AC38 -> 0 | R12: ='個人種目 申込用紙'!AK38 | S12: ='個人種目 申込用紙'!AL38 -> . | T12: ='個人種目 申込用紙'!AO38 | U12: ='個人種目 申込用紙'!AP38 -> . | V12: ='個人種目 申込用紙'!AS38 | W12: ='個人種目 申込用紙'!AT38 -> .
A13: ='個人種目 申込用紙'!A41 -> 12 | C13: ='個人種目 申込用紙'!AF41 | D13: ='個人種目 申込用紙'!C42 -> 0 | E13: ='個人種目 申込用紙'!C41 -> 0 | F13: ='個人種目 申込用紙'!AG41 | I13: ='個人種目 申込用紙'!AH41 -> 0 | K13: ='個人種目 申込用紙'!AB41 -> 0 | L13: ='個人種目 申込用紙'!AC41 -> 0 | R13: ='個人種目 申込用紙'!AK41 | S13: ='個人種目 申込用紙'!AL41 -> . | T13: ='個人種目 申込用紙'!AO41 | U13: ='個人種目 申込用紙'!AP41 -> . | V13: ='個人種目 申込用紙'!AS41 | W13: ='個人種目 申込用紙'!AT41 -> .
A14: ='個人種目 申込用紙'!A44 -> 13 | C14: ='個人種目 申込用紙'!AF44 | D14: ='個人種目 申込用紙'!C45 -> 0 | E14: ='個人種目 申込用紙'!C44 -> 0 | F14: ='個人種目 申込用紙'!AG44 | I14: ='個人種目 申込用紙'!AH44 -> 0 | K14: ='個人種目 申込用紙'!AB44 -> 0 | L14: ='個人種目 申込用紙'!AC44 -> 0 | R14: ='個人種目 申込用紙'!AK44 | S14: ='個人種目 申込用紙'!AL44 -> . | T14: ='個人種目 申込用紙'!AO44 | U14: ='個人種目 申込用紙'!AP44 -> . | V14: ='個人種目 申込用紙'!AS44 | W14: ='個人種目 申込用紙'!AT44 -> .
A15: ='個人種目 申込用紙'!A47 -> 14 | C15: ='個人種目 申込用紙'!AF47 | D15: ='個人種目 申込用紙'!C48 -> 0 | E15: ='個人種目 申込用紙'!C47 -> 0 | F15: ='個人種目 申込用紙'!AG47 | I15: ='個人種目 申込用紙'!AH47 -> 0 | K15: ='個人種目 申込用紙'!AB47 -> 0 | L15: ='個人種目 申込用紙'!AC47 -> 0 | R15: ='個人種目 申込用紙'!AK47 | S15: ='個人種目 申込用紙'!AL47 -> . | T15: ='個人種目 申込用紙'!AO47 | U15: ='個人種目 申込用紙'!AP47 -> . | V15: ='個人種目 申込用紙'!AS47 | W15: ='個人種目 申込用紙'!AT47 -> .
A16: ='個人種目 申込用紙'!A50 -> 15 | C16: ='個人種目 申込用紙'!AF50 | D16: ='個人種目 申込用紙'!C51 -> 0 | E16: ='個人種目 申込用紙'!C50 -> 0 | F16: ='個人種目 申込用紙'!AG50 | I16: ='個人種目 申込用紙'!AH50 -> 0 | K16: ='個人種目 申込用紙'!AB50 -> 0 | L16: ='個人種目 申込用紙'!AC50 -> 0 | R16: ='個人種目 申込用紙'!AK50 | S16: ='個人種目 申込用紙'!AL50 -> . | T16: ='個人種目 申込用紙'!AO50 | U16: ='個人種目 申込用紙'!AP50 -> . | V16: ='個人種目 申込用紙'!AS50 | W16: ='個人種目 申込用紙'!AT50 -> .
A17: ='個人種目 申込用紙'!A53 -> 16 | C17: ='個人種目 申込用紙'!AF53 | D17: ='個人種目 申込用紙'!C54 -> 0 | E17: ='個人種目 申込用紙'!C53 -> 0 | F17: ='個人種目 申込用紙'!AG53 | I17: ='個人種目 申込用紙'!AH53 -> 0 | K17: ='個人種目 申込用紙'!AB53 -> 0 | L17: ='個人種目 申込用紙'!AC53 -> 0 | R17: ='個人種目 申込用紙'!AK53 | S17: ='個人種目 申込用紙'!AL53 -> . | T17: ='個人種目 申込用紙'!AO53 | U17: ='個人種目 申込用紙'!AP53 -> . | V17: ='個人種目 申込用紙'!AS53 | W17: ='個人種目 申込用紙'!AT53 -> .
A18: ='個人種目 申込用紙'!A56 -> 17 | C18: ='個人種目 申込用紙'!AF56 | D18: ='個人種目 申込用紙'!C57 -> 0 | E18: ='個人種目 申込用紙'!C56 -> 0 | F18: ='個人種目 申込用紙'!AG56 | I18: ='個人種目 申込用紙'!AH56 -> 0 | K18: ='個人種目 申込用紙'!AB56 -> 0 | L18: ='個人種目 申込用紙'!AC56 -> 0 | R18: ='個人種目 申込用紙'!AK56 | S18: ='個人種目 申込用紙'!AL56 -> . | T18: ='個人種目 申込用紙'!AO56 | U18: ='個人種目 申込用紙'!AP56 -> . | V18: ='個人種目 申込用紙'!AS56 | W18: ='個人種目 申込用紙'!AT56 -> .
A19: ='個人種目 申込用紙'!A59 -> 18 | C19: ='個人種目 申込用紙'!AF59 | D19: ='個人種目 申込用紙'!C60 -> 0 | E19: ='個人種目 申込用紙'!C59 -> 0 | F19: ='個人種目 申込用紙'!AG59 | I19: ='個人種目 申込用紙'!AH59 -> 0 | K19: ='個人種目 申込用紙'!AB59 -> 0 | L19: ='個人種目 申込用紙'!AC59 -> 0 | R19: ='個人種目 申込用紙'!AK59 | S19: ='個人種目 申込用紙'!AL59 -> . | T19: ='個人種目 申込用紙'!AO59 | U19: ='個人種目 申込用紙'!AP59 -> . | V19: ='個人種目 申込用紙'!AS59 | W19: ='個人種目 申込用紙'!AT59 -> .
A20: ='個人種目 申込用紙'!A62 -> 19 | C20: ='個人種目 申込用紙'!AF62 | D20: ='個人種目 申込用紙'!C63 -> 0 | E20: ='個人種目 申込用紙'!C62 -> 0 | F20: ='個人種目 申込用紙'!AG62 | I20: ='個人種目 申込用紙'!AH62 -> 0 | K20: ='個人種目 申込用紙'!AB62 -> 0 | L20: ='個人種目 申込用紙'!AC62 -> 0 | R20: ='個人種目 申込用紙'!AK62 | S20: ='個人種目 申込用紙'!AL62 -> . | T20: ='個人種目 申込用紙'!AO62 | U20: ='個人種目 申込用紙'!AP62 -> . | V20: ='個人種目 申込用紙'!AS62 | W20: ='個人種目 申込用紙'!AT62 -> .
A21: ='個人種目 申込用紙'!A65 -> 20 | C21: ='個人種目 申込用紙'!AF65 | D21: ='個人種目 申込用紙'!C66 -> 0 | E21: ='個人種目 申込用紙'!C65 -> 0 | F21: ='個人種目 申込用紙'!AG65 | I21: ='個人種目 申込用紙'!AH65 -> 0 | K21: ='個人種目 申込用紙'!AB65 -> 0 | L21: ='個人種目 申込用紙'!AC65 -> 0 | R21: ='個人種目 申込用紙'!AK65 | S21: ='個人種目 申込用紙'!AL65 -> . | T21: ='個人種目 申込用紙'!AO65 | U21: ='個人種目 申込用紙'!AP65 -> . | V21: ='個人種目 申込用紙'!AS65 | W21: ='個人種目 申込用紙'!AT65 -> .
A22: ='個人種目 申込用紙'!A68 -> 21 | C22: ='個人種目 申込用紙'!AF68 | D22: ='個人種目 申込用紙'!C69 -> 0 | E22: ='個人種目 申込用紙'!C68 -> 0 | F22: ='個人種目 申込用紙'!AG68 | I22: ='個人種目 申込用紙'!AH68 -> 0 | K22: ='個人種目 申込用紙'!AB68 -> 0 | L22: ='個人種目 申込用紙'!AC68 -> 0 | R22: ='個人種目 申込用紙'!AK68 | S22: ='個人種目 申込用紙'!AL68 -> . | T22: ='個人種目 申込用紙'!AO68 | U22: ='個人種目 申込用紙'!AP68 -> . | V22: ='個人種目 申込用紙'!AS68 | W22: ='個人種目 申込用紙'!AT68 -> .
A23: ='個人種目 申込用紙'!A71 -> 22 | C23: ='個人種目 申込用紙'!AF71 | D23: ='個人種目 申込用紙'!C72 -> 0 | E23: ='個人種目 申込用紙'!C71 -> 0 | F23: ='個人種目 申込用紙'!AG71 | I23: ='個人種目 申込用紙'!AH71 -> 0 | K23: ='個人種目 申込用紙'!AB71 -> 0 | L23: ='個人種目 申込用紙'!AC71 -> 0 | R23: ='個人種目 申込用紙'!AK71 | S23: ='個人種目 申込用紙'!AL71 -> . | T23: ='個人種目 申込用紙'!AO71 | U23: ='個人種目 申込用紙'!AP71 -> . | V23: ='個人種目 申込用紙'!AS71 | W23: ='個人種目 申込用紙'!AT71 -> .
A24: ='個人種目 申込用紙'!A74 -> 23 | C24: ='個人種目 申込用紙'!AF74 | D24: ='個人種目 申込用紙'!C75 -> 0 | E24: ='個人種目 申込用紙'!C74 -> 0 | F24: ='個人種目 申込用紙'!AG74 | I24: ='個人種目 申込用紙'!AH74 -> 0 | K24: ='個人種目 申込用紙'!AB74 -> 0 | L24: ='個人種目 申込用紙'!AC74 -> 0 | R24: ='個人種目 申込用紙'!AK74 | S24: ='個人種目 申込用紙'!AL74 -> . | T24: ='個人種目 申込用紙'!AO74 | U24: ='個人種目 申込用紙'!AP74 -> . | V24: ='個人種目 申込用紙'!AS74 | W24: ='個人種目 申込用紙'!AT74 -> .
A25: ='個人種目 申込用紙'!A77 -> 24 | C25: ='個人種目 申込用紙'!AF77 | D25: ='個人種目 申込用紙'!C78 -> 0 | E25: ='個人種目 申込用紙'!C77 -> 0 | F25: ='個人種目 申込用紙'!AG77 | I25: ='個人種目 申込用紙'!AH77 -> 0 | K25: ='個人種目 申込用紙'!AB77 -> 0 | L25: ='個人種目 申込用紙'!AC77 -> 0 | R25: ='個人種目 申込用紙'!AK77 | S25: ='個人種目 申込用紙'!AL77 -> . | T25: ='個人種目 申込用紙'!AO77 | U25: ='個人種目 申込用紙'!AP77 -> . | V25: ='個人種目 申込用紙'!AS77 | W25: ='個人種目 申込用紙'!AT77 -> .
A26: ='個人種目 申込用紙'!A80 -> 25 | C26: ='個人種目 申込用紙'!AF80 | D26: ='個人種目 申込用紙'!C81 -> 0 | E26: ='個人種目 申込用紙'!C80 -> 0 | F26: ='個人種目 申込用紙'!AG80 | I26: ='個人種目 申込用紙'!AH80 -> 0 | K26: ='個人種目 申込用紙'!AB80 -> 0 | L26: ='個人種目 申込用紙'!AC80 -> 0 | R26: ='個人種目 申込用紙'!AK80 | S26: ='個人種目 申込用紙'!AL80 -> . | T26: ='個人種目 申込用紙'!AO80 | U26: ='個人種目 申込用紙'!AP80 -> . | V26: ='個人種目 申込用紙'!AS80 | W26: ='個人種目 申込用紙'!AT80 -> .
A27: ='個人種目 申込用紙'!A83 -> 26 | C27: ='個人種目 申込用紙'!AF83 | D27: ='個人種目 申込用紙'!C84 -> 0 | E27: ='個人種目 申込用紙'!C83 -> 0 | F27: ='個人種目 申込用紙'!AG83 | I27: ='個人種目 申込用紙'!AH83 -> 0 | K27: ='個人種目 申込用紙'!AB83 -> 0 | L27: ='個人種目 申込用紙'!AC83 -> 0 | R27: ='個人種目 申込用紙'!AK83 | S27: ='個人種目 申込用紙'!AL83 -> . | T27: ='個人種目 申込用紙'!AO83 | U27: ='個人種目 申込用紙'!AP83 -> . | V27: ='個人種目 申込用紙'!AS83 | W27: ='個人種目 申込用紙'!AT83 -> .
A28: ='個人種目 申込用紙'!A86 -> 27 | C28: ='個人種目 申込用紙'!AF86 | D28: ='個人種目 申込用紙'!C87 -> 0 | E28: ='個人種目 申込用紙'!C86 -> 0 | F28: ='個人種目 申込用紙'!AG86 | I28: ='個人種目 申込用紙'!AH86 -> 0 | K28: ='個人種目 申込用紙'!AB86 -> 0 | L28: ='個人種目 申込用紙'!AC86 -> 0 | R28: ='個人種目 申込用紙'!AK86 | S28: ='個人種目 申込用紙'!AL86 -> . | T28: ='個人種目 申込用紙'!AO86 | U28: ='個人種目 申込用紙'!AP86 -> . | V28: ='個人種目 申込用紙'!AS86 | W28: ='個人種目 申込用紙'!AT86 -> .
A29: ='個人種目 申込用紙'!A89 -> 28 | C29: ='個人種目 申込用紙'!AF89 | D29: ='個人種目 申込用紙'!C90 -> 0 | E29: ='個人種目 申込用紙'!C89 -> 0 | F29: ='個人種目 申込用紙'!AG89 | I29: ='個人種目 申込用紙'!AH89 -> 0 | K29: ='個人種目 申込用紙'!AB89 -> 0 | L29: ='個人種目 申込用紙'!AC89 -> 0 | R29: ='個人種目 申込用紙'!AK89 | S29: ='個人種目 申込用紙'!AL89 -> . | T29: ='個人種目 申込用紙'!AO89 | U29: ='個人種目 申込用紙'!AP89 -> . | V29: ='個人種目 申込用紙'!AS89 | W29: ='個人種目 申込用紙'!AT89 -> .
A30: ='個人種目 申込用紙'!A92 -> 29 | C30: ='個人種目 申込用紙'!AF92 | D30: ='個人種目 申込用紙'!C93 -> 0 | E30: ='個人種目 申込用紙'!C92 -> 0 | F30: ='個人種目 申込用紙'!AG92 | I30: ='個人種目 申込用紙'!AH92 -> 0 | K30: ='個人種目 申込用紙'!AB92 -> 0 | L30: ='個人種目 申込用紙'!AC92 -> 0 | R30: ='個人種目 申込用紙'!AK92 | S30: ='個人種目 申込用紙'!AL92 -> . | T30: ='個人種目 申込用紙'!AO92 | U30: ='個人種目 申込用紙'!AP92 -> . | V30: ='個人種目 申込用紙'!AS92 | W30: ='個人種目 申込用紙'!AT92 -> .
A31: ='個人種目 申込用紙'!A95 -> 30 | C31: ='個人種目 申込用紙'!AF95 | D31: ='個人種目 申込用紙'!C96 -> 0 | E31: ='個人種目 申込用紙'!C95 -> 0 | F31: ='個人種目 申込用紙'!AG95 | I31: ='個人種目 申込用紙'!AH95 -> 0 | K31: ='個人種目 申込用紙'!AB95 -> 0 | L31: ='個人種目 申込用紙'!AC95 -> 0 | R31: ='個人種目 申込用紙'!AK95 | S31: ='個人種目 申込用紙'!AL95 -> . | T31: ='個人種目 申込用紙'!AO95 | U31: ='個人種目 申込用紙'!AP95 -> . | V31: ='個人種目 申込用紙'!AS95 | W31: ='個人種目 申込用紙'!AT95 -> .
A32: ='個人種目 申込用紙'!A98 -> 31 | C32: ='個人種目 申込用紙'!AF98 | D32: ='個人種目 申込用紙'!C99 -> 0 | E32: ='個人種目 申込用紙'!C98 -> 0 | F32: ='個人種目 申込用紙'!AG98 | I32: ='個人種目 申込用紙'!AH98 -> 0 | K32: ='個人種目 申込用紙'!AB98 -> 0 | L32: ='個人種目 申込用紙'!AC98 -> 0 | R32: ='個人種目 申込用紙'!AK98 | S32: ='個人種目 申込用紙'!AL98 -> . | T32: ='個人種目 申込用紙'!AO98 | U32: ='個人種目 申込用紙'!AP98 -> . | V32: ='個人種目 申込用紙'!AS98 | W32: ='個人種目 申込用紙'!AT98 -> .
A33: ='個人種目 申込用紙'!A101 -> 32 | C33: ='個人種目 申込用紙'!AF101 | D33: ='個人種目 申込用紙'!C102 -> 0 | E33: ='個人種目 申込用紙'!C101 -> 0 | F33: ='個人種目 申込用紙'!AG101 | I33: ='個人種目 申込用紙'!AH101 -> 0 | K33: ='個人種目 申込用紙'!AB101 -> 0 | L33: ='個人種目 申込用紙'!AC101 -> 0 | R33: ='個人種目 申込用紙'!AK101 | S33: ='個人種目 申込用紙'!AL101 -> . | T33: ='個人種目 申込用紙'!AO101 | U33: ='個人種目 申込用紙'!AP101 -> . | V33: ='個人種目 申込用紙'!AS101 | W33: ='個人種目 申込用紙'!AT101 -> .
A34: ='個人種目 申込用紙'!A104 -> 33 | C34: ='個人種目 申込用紙'!AF104 | D34: ='個人種目 申込用紙'!C105 -> 0 | E34: ='個人種目 申込用紙'!C104 -> 0 | F34: ='個人種目 申込用紙'!AG104 | I34: ='個人種目 申込用紙'!AH104 -> 0 | K34: ='個人種目 申込用紙'!AB104 -> 0 | L34: ='個人種目 申込用紙'!AC104 -> 0 | R34: ='個人種目 申込用紙'!AK104 | S34: ='個人種目 申込用紙'!AL104 -> . | T34: ='個人種目 申込用紙'!AO104 | U34: ='個人種目 申込用紙'!AP104 -> . | V34: ='個人種目 申込用紙'!AS104 | W34: ='個人種目 申込用紙'!AT104 -> .
A35: ='個人種目 申込用紙'!A107 -> 34 | C35: ='個人種目 申込用紙'!AF107 | D35: ='個人種目 申込用紙'!C108 -> 0 | E35: ='個人種目 申込用紙'!C107 -> 0 | F35: ='個人種目 申込用紙'!AG107 | I35: ='個人種目 申込用紙'!AH107 -> 0 | K35: ='個人種目 申込用紙'!AB107 -> 0 | L35: ='個人種目 申込用紙'!AC107 -> 0 | R35: ='個人種目 申込用紙'!AK107 | S35: ='個人種目 申込用紙'!AL107 -> . | T35: ='個人種目 申込用紙'!AO107 | U35: ='個人種目 申込用紙'!AP107 -> . | V35: ='個人種目 申込用紙'!AS107 | W35: ='個人種目 申込用紙'!AT107 -> .
A36: ='個人種目 申込用紙'!A110 -> 35 | C36: ='個人種目 申込用紙'!AF110 | D36: ='個人種目 申込用紙'!C111 -> 0 | E36: ='個人種目 申込用紙'!C110 -> 0 | F36: ='個人種目 申込用紙'!AG110 | I36: ='個人種目 申込用紙'!AH110 -> 0 | K36: ='個人種目 申込用紙'!AB110 -> 0 | L36: ='個人種目 申込用紙'!AC110 -> 0 | R36: ='個人種目 申込用紙'!AK110 | S36: ='個人種目 申込用紙'!AL110 -> . | T36: ='個人種目 申込用紙'!AO110 | U36: ='個人種目 申込用紙'!AP110 -> . | V36: ='個人種目 申込用紙'!AS110 | W36: ='個人種目 申込用紙'!AT110 -> .
A37: ='個人種目 申込用紙'!A113 -> 36 | C37: ='個人種目 申込用紙'!AF113 | D37: ='個人種目 申込用紙'!C114 -> 0 | E37: ='個人種目 申込用紙'!C113 -> 0 | F37: ='個人種目 申込用紙'!AG113 | I37: ='個人種目 申込用紙'!AH113 -> 0 | K37: ='個人種目 申込用紙'!AB113 -> 0 | L37: ='個人種目 申込用紙'!AC113 -> 0 | R37: ='個人種目 申込用紙'!AK113 | S37: ='個人種目 申込用紙'!AL113 -> . | T37: ='個人種目 申込用紙'!AO113 | U37: ='個人種目 申込用紙'!AP113 -> . | V37: ='個人種目 申込用紙'!AS113 | W37: ='個人種目 申込用紙'!AT113 -> .
A38: ='個人種目 申込用紙'!A116 -> 37 | C38: ='個人種目 申込用紙'!AF116 | D38: ='個人種目 申込用紙'!C117 -> 0 | E38: ='個人種目 申込用紙'!C116 -> 0 | F38: ='個人種目 申込用紙'!AG116 | I38: ='個人種目 申込用紙'!AH116 -> 0 | K38: ='個人種目 申込用紙'!AB116 -> 0 | L38: ='個人種目 申込用紙'!AC116 -> 0 | R38: ='個人種目 申込用紙'!AK116 | S38: ='個人種目 申込用紙'!AL116 -> . | T38: ='個人種目 申込用紙'!AO116 | U38: ='個人種目 申込用紙'!AP116 -> . | V38: ='個人種目 申込用紙'!AS116 | W38: ='個人種目 申込用紙'!AT116 -> .
A39: ='個人種目 申込用紙'!A119 -> 38 | C39: ='個人種目 申込用紙'!AF119 | D39: ='個人種目 申込用紙'!C120 -> 0 | E39: ='個人種目 申込用紙'!C119 -> 0 | F39: ='個人種目 申込用紙'!AG119 | I39: ='個人種目 申込用紙'!AH119 -> 0 | K39: ='個人種目 申込用紙'!AB119 -> 0 | L39: ='個人種目 申込用紙'!AC119 -> 0 | R39: ='個人種目 申込用紙'!AK119 | S39: ='個人種目 申込用紙'!AL119 -> . | T39: ='個人種目 申込用紙'!AO119 | U39: ='個人種目 申込用紙'!AP119 -> . | V39: ='個人種目 申込用紙'!AS119 | W39: ='個人種目 申込用紙'!AT119 -> .
A40: ='個人種目 申込用紙'!A122 -> 39 | C40: ='個人種目 申込用紙'!AF122 | D40: ='個人種目 申込用紙'!C123 -> 0 | E40: ='個人種目 申込用紙'!C122 -> 0 | F40: ='個人種目 申込用紙'!AG122 | I40: ='個人種目 申込用紙'!AH122 -> 0 | K40: ='個人種目 申込用紙'!AB122 -> 0 | L40: ='個人種目 申込用紙'!AC122 -> 0 | R40: ='個人種目 申込用紙'!AK122 | S40: ='個人種目 申込用紙'!AL122 -> . | T40: ='個人種目 申込用紙'!AO122 | U40: ='個人種目 申込用紙'!AP122 -> . | V40: ='個人種目 申込用紙'!AS122 | W40: ='個人種目 申込用紙'!AT122 -> .
...

Sheet このシートはさわらないでください（ﾘﾚｰ）
A1: チーム番号(4) | B1: チーム名(20) | C1: ﾖﾐｶﾞﾅ(15) | D1: 所属番号(4) | E1: 加盟番号(2) | F1: 学校(1) | G1: ｸﾗｽ(2) | H1: 性別(1) | I1: ｴﾝﾄﾘｰ(5) | J1: ｴﾝﾄﾘｰﾀｲﾑ(7)
A2: ='リレー種目 申込用紙'!V8 -> 1 | B2: ='リレー種目 申込用紙'!W8 -> 0 | C2: ='リレー種目 申込用紙'!X8 -> 0 | G2: ='リレー種目 申込用紙'!Z8 -> 0 | H2: ='リレー種目 申込用紙'!Y8 | I2: ='リレー種目 申込用紙'!AC8 | J2: ='リレー種目 申込用紙'!AD8 -> .
A3: ='リレー種目 申込用紙'!V12 -> 2 | B3: ='リレー種目 申込用紙'!W12 -> 0 | C3: ='リレー種目 申込用紙'!X12 -> 0 | G3: ='リレー種目 申込用紙'!Z12 -> 0 | H3: ='リレー種目 申込用紙'!Y12 | I3: ='リレー種目 申込用紙'!AC12 | J3: ='リレー種目 申込用紙'!AD12 -> .
A4: ='リレー種目 申込用紙'!V16 -> 3 | B4: ='リレー種目 申込用紙'!W16 -> 0 | C4: ='リレー種目 申込用紙'!X16 -> 0 | G4: ='リレー種目 申込用紙'!Z16 -> 0 | H4: ='リレー種目 申込用紙'!Y16 | I4: ='リレー種目 申込用紙'!AC16 | J4: ='リレー種目 申込用紙'!AD16 -> .
A5: ='リレー種目 申込用紙'!V20 -> 4 | B5: ='リレー種目 申込用紙'!W20 -> 0 | C5: ='リレー種目 申込用紙'!X20 -> 0 | G5: ='リレー種目 申込用紙'!Z20 -> 0 | H5: ='リレー種目 申込用紙'!Y20 | I5: ='リレー種目 申込用紙'!AC20 | J5: ='リレー種目 申込用紙'!AD20 -> .
A6: ='リレー種目 申込用紙'!V24 -> 5 | B6: ='リレー種目 申込用紙'!W24 -> 0 | C6: ='リレー種目 申込用紙'!X24 -> 0 | G6: ='リレー種目 申込用紙'!Z24 -> 0 | H6: ='リレー種目 申込用紙'!Y24 | I6: ='リレー種目 申込用紙'!AC24 | J6: ='リレー種目 申込用紙'!AD24 -> .
A7: ='リレー種目 申込用紙'!V28 -> 6 | B7: ='リレー種目 申込用紙'!W28 -> 0 | C7: ='リレー種目 申込用紙'!X28 -> 0 | G7: ='リレー種目 申込用紙'!Z28 -> 0 | H7: ='リレー種目 申込用紙'!Y28 | I7: ='リレー種目 申込用紙'!AC28 | J7: ='リレー種目 申込用紙'!AD28 -> .
A8: ='リレー種目 申込用紙'!V32 -> 7 | B8: ='リレー種目 申込用紙'!W32 -> 0 | C8: ='リレー種目 申込用紙'!X32 -> 0 | G8: ='リレー種目 申込用紙'!Z32 -> 0 | H8: ='リレー種目 申込用紙'!Y32 | I8: ='リレー種目 申込用紙'!AC32 | J8: ='リレー種目 申込用紙'!AD32 -> .
A9: ='リレー種目 申込用紙'!V36 -> 8 | B9: ='リレー種目 申込用紙'!W36 -> 0 | C9: ='リレー種目 申込用紙'!X36 -> 0 | G9: ='リレー種目 申込用紙'!Z36 -> 0 | H9: ='リレー種目 申込用紙'!Y36 | I9: ='リレー種目 申込用紙'!AC36 | J9: ='リレー種目 申込用紙'!AD36 -> .
A10: ='リレー種目 申込用紙'!V40 -> 9 | B10: ='リレー種目 申込用紙'!W40 -> 0 | C10: ='リレー種目 申込用紙'!X40 -> 0 | G10: ='リレー種目 申込用紙'!Z40 -> 0 | H10: ='リレー種目 申込用紙'!Y40 | I10: ='リレー種目 申込用紙'!AC40 | J10: ='リレー種目 申込用紙'!AD40 -> .
A11: ='リレー種目 申込用紙'!V44 -> 10 | B11: ='リレー種目 申込用紙'!W44 -> 0 | C11: ='リレー種目 申込用紙'!X44 -> 0 | G11: ='リレー種目 申込用紙'!Z44 -> 0 | H11: ='リレー種目 申込用紙'!Y44 | I11: ='リレー種目 申込用紙'!AC44 | J11: ='リレー種目 申込用紙'!AD44 -> .
A12: ='リレー種目 申込用紙'!V48 -> 11 | B12: ='リレー種目 申込用紙'!W48 -> 0 | C12: ='リレー種目 申込用紙'!X48 -> 0 | G12: ='リレー種目 申込用紙'!Z48 -> 0 | H12: ='リレー種目 申込用紙'!Y48 | I12: ='リレー種目 申込用紙'!AC48 | J12: ='リレー種目 申込用紙'!AD48 -> .
A13: ='リレー種目 申込用紙'!V52 -> 12 | B13: ='リレー種目 申込用紙'!W52 -> 0 | C13: ='リレー種目 申込用紙'!X52 -> 0 | G13: ='リレー種目 申込用紙'!Z52 -> 0 | H13: ='リレー種目 申込用紙'!Y52 | I13: ='リレー種目 申込用紙'!AC52 | J13: ='リレー種目 申込用紙'!AD52 -> .
A14: ='リレー種目 申込用紙'!V56 -> 13 | B14: ='リレー種目 申込用紙'!W56 -> 0 | C14: ='リレー種目 申込用紙'!X56 -> 0 | G14: ='リレー種目 申込用紙'!Z56 -> 0 | H14: ='リレー種目 申込用紙'!Y56 | I14: ='リレー種目 申込用紙'!AC56 | J14: ='リレー種目 申込用紙'!AD56 -> .
A15: ='リレー種目 申込用紙'!V60 -> 14 | B15: ='リレー種目 申込用紙'!W60 -> 0 | C15: ='リレー種目 申込用紙'!X60 -> 0 | G15: ='リレー種目 申込用紙'!Z60 -> 0 | H15: ='リレー種目 申込用紙'!Y60 | I15: ='リレー種目 申込用紙'!AC60 | J15: ='リレー種目 申込用紙'!AD60 -> .
A16: ='リレー種目 申込用紙'!V64 -> 15 | B16: ='リレー種目 申込用紙'!W64 -> 0 | C16: ='リレー種目 申込用紙'!X64 -> 0 | G16: ='リレー種目 申込用紙'!Z64 -> 0 | H16: ='リレー種目 申込用紙'!Y64 | I16: ='リレー種目 申込用紙'!AC64 | J16: ='リレー種目 申込用紙'!AD64 -> .
A17: ='リレー種目 申込用紙'!V68 -> 16 | B17: ='リレー種目 申込用紙'!W68 -> 0 | C17: ='リレー種目 申込用紙'!X68 -> 0 | G17: ='リレー種目 申込用紙'!Z68 -> 0 | H17: ='リレー種目 申込用紙'!Y68 | I17: ='リレー種目 申込用紙'!AC68 | J17: ='リレー種目 申込用紙'!AD68 -> .
A18: ='リレー種目 申込用紙'!V72 -> 17 | B18: ='リレー種目 申込用紙'!W72 -> 0 | C18: ='リレー種目 申込用紙'!X72 -> 0 | G18: ='リレー種目 申込用紙'!Z72 -> 0 | H18: ='リレー種目 申込用紙'!Y72 | I18: ='リレー種目 申込用紙'!AC72 | J18: ='リレー種目 申込用紙'!AD72 -> .
A19: ='リレー種目 申込用紙'!V76 -> 18 | B19: ='リレー種目 申込用紙'!W76 -> 0 | C19: ='リレー種目 申込用紙'!X76 -> 0 | G19: ='リレー種目 申込用紙'!Z76 -> 0 | H19: ='リレー種目 申込用紙'!Y76 | I19: ='リレー種目 申込用紙'!AC76 | J19: ='リレー種目 申込用紙'!AD76 -> .
A20: ='リレー種目 申込用紙'!V80 -> 19 | B20: ='リレー種目 申込用紙'!W80 -> 0 | C20: ='リレー種目 申込用紙'!X80 -> 0 | G20: ='リレー種目 申込用紙'!Z80 -> 0 | H20: ='リレー種目 申込用紙'!Y80 | I20: ='リレー種目 申込用紙'!AC80 | J20: ='リレー種目 申込用紙'!AD80 -> .
A21: ='リレー種目 申込用紙'!V84 -> 20 | B21: ='リレー種目 申込用紙'!W84 -> 0 | C21: ='リレー種目 申込用紙'!X84 -> 0 | G21: ='リレー種目 申込用紙'!Z84 -> 0 | H21: ='リレー種目 申込用紙'!Y84 | I21: ='リレー種目 申込用紙'!AC84 | J21: ='リレー種目 申込用紙'!AD84 -> .
A22: ='リレー種目 申込用紙'!V88 -> 21 | B22: ='リレー種目 申込用紙'!W88 -> 0 | C22: ='リレー種目 申込用紙'!X88 -> 0 | G22: ='リレー種目 申込用紙'!Z88 -> 0 | H22: ='リレー種目 申込用紙'!Y88 | I22: ='リレー種目 申込用紙'!AC88 | J22: ='リレー種目 申込用紙'!AD88 -> .
A23: ='リレー種目 申込用紙'!V92 -> 22 | B23: ='リレー種目 申込用紙'!W92 -> 0 | C23: ='リレー種目 申込用紙'!X92 -> 0 | G23: ='リレー種目 申込用紙'!Z92 -> 0 | H23: ='リレー種目 申込用紙'!Y92 | I23: ='リレー種目 申込用紙'!AC92 | J23: ='リレー種目 申込用紙'!AD92 -> .
A24: ='リレー種目 申込用紙'!V96 -> 23 | B24: ='リレー種目 申込用紙'!W96 -> 0 | C24: ='リレー種目 申込用紙'!X96 -> 0 | G24: ='リレー種目 申込用紙'!Z96 -> 0 | H24: ='リレー種目 申込用紙'!Y96 | I24: ='リレー種目 申込用紙'!AC96 | J24: ='リレー種目 申込用紙'!AD96 -> .
A25: ='リレー種目 申込用紙'!V100 -> 24 | B25: ='リレー種目 申込用紙'!W100 -> 0 | C25: ='リレー種目 申込用紙'!X100 -> 0 | G25: ='リレー種目 申込用紙'!Z100 -> 0 | H25: ='リレー種目 申込用紙'!Y100 | I25: ='リレー種目 申込用紙'!AC100 | J25: ='リレー種目 申込用紙'!AD100
A26: ='リレー種目 申込用紙'!V104 -> 25 | B26: ='リレー種目 申込用紙'!W104 -> 0 | C26: ='リレー種目 申込用紙'!X104 -> 0 | G26: ='リレー種目 申込用紙'!Z104 -> 0 | H26: ='リレー種目 申込用紙'!Y104 | I26: ='リレー種目 申込用紙'!AC104 | J26: ='リレー種目 申込用紙'!AD104
A27: ='リレー種目 申込用紙'!#REF! -> #REF! | B27: ='リレー種目 申込用紙'!#REF! -> #REF! | C27: ='リレー種目 申込用紙'!#REF! -> #REF! | G27: ='リレー種目 申込用紙'!#REF! -> #REF! | H27: ='リレー種目 申込用紙'!#REF! -> #REF! | I27: ='リレー種目 申込用紙'!#REF! -> #REF! | J27: ='リレー種目 申込用紙'!#REF! -> #REF!
A28: ='リレー種目 申込用紙'!#REF! -> #REF! | B28: ='リレー種目 申込用紙'!#REF! -> #REF! | C28: ='リレー種目 申込用紙'!#REF! -> #REF! | G28: ='リレー種目 申込用紙'!#REF! -> #REF! | H28: ='リレー種目 申込用紙'!#REF! -> #REF! | I28: ='リレー種目 申込用紙'!#REF! -> #REF! | J28: ='リレー種目 申込用紙'!#REF! -> #REF!
A29: ='リレー種目 申込用紙'!#REF! -> #REF! | B29: ='リレー種目 申込用紙'!#REF! -> #REF! | C29: ='リレー種目 申込用紙'!#REF! -> #REF! | G29: ='リレー種目 申込用紙'!#REF! -> #REF! | H29: ='リレー種目 申込用紙'!#REF! -> #REF! | I29: ='リレー種目 申込用紙'!#REF! -> #REF! | J29: ='リレー種目 申込用紙'!#REF! -> #REF!
A30: ='リレー種目 申込用紙'!#REF! -> #REF! | B30: ='リレー種目 申込用紙'!#REF! -> #REF! | C30: ='リレー種目 申込用紙'!#REF! -> #REF! | G30: ='リレー種目 申込用紙'!#REF! -> #REF! | H30: ='リレー種目 申込用紙'!#REF! -> #REF! | I30: ='リレー種目 申込用紙'!#REF! -> #REF! | J30: ='リレー種目 申込用紙'!#REF! -> #REF!
A31: ='リレー種目 申込用紙'!#REF! -> #REF! | B31: ='リレー種目 申込用紙'!#REF! -> #REF! | C31: ='リレー種目 申込用紙'!#REF! -> #REF! | G31: ='リレー種目 申込用紙'!#REF! -> #REF! | H31: ='リレー種目 申込用紙'!#REF! -> #REF! | I31: ='リレー種目 申込用紙'!#REF! -> #REF! | J31: ='リレー種目 申込用紙'!#REF! -> #REF!
A32: ='リレー種目 申込用紙'!#REF! -> #REF! | B32: ='リレー種目 申込用紙'!#REF! -> #REF! | C32: ='リレー種目 申込用紙'!#REF! -> #REF! | G32: ='リレー種目 申込用紙'!#REF! -> #REF! | H32: ='リレー種目 申込用紙'!#REF! -> #REF! | I32: ='リレー種目 申込用紙'!#REF! -> #REF! | J32: ='リレー種目 申込用紙'!#REF! -> #REF!
A33: ='リレー種目 申込用紙'!#REF! -> #REF! | B33: ='リレー種目 申込用紙'!#REF! -> #REF! | C33: ='リレー種目 申込用紙'!#REF! -> #REF! | G33: ='リレー種目 申込用紙'!#REF! -> #REF! | H33: ='リレー種目 申込用紙'!#REF! -> #REF! | I33: ='リレー種目 申込用紙'!#REF! -> #REF! | J33: ='リレー種目 申込用紙'!#REF! -> #REF!
A34: ='リレー種目 申込用紙'!#REF! -> #REF! | B34: ='リレー種目 申込用紙'!#REF! -> #REF! | C34: ='リレー種目 申込用紙'!#REF! -> #REF! | G34: ='リレー種目 申込用紙'!#REF! -> #REF! | H34: ='リレー種目 申込用紙'!#REF! -> #REF! | I34: ='リレー種目 申込用紙'!#REF! -> #REF! | J34: ='リレー種目 申込用紙'!#REF! -> #REF!
A35: ='リレー種目 申込用紙'!#REF! -> #REF! | B35: ='リレー種目 申込用紙'!#REF! -> #REF! | C35: ='リレー種目 申込用紙'!#REF! -> #REF! | G35: ='リレー種目 申込用紙'!#REF! -> #REF! | H35: ='リレー種目 申込用紙'!#REF! -> #REF! | I35: ='リレー種目 申込用紙'!#REF! -> #REF! | J35: ='リレー種目 申込用紙'!#REF! -> #REF!
A36: ='リレー種目 申込用紙'!#REF! -> #REF! | B36: ='リレー種目 申込用紙'!#REF! -> #REF! | C36: ='リレー種目 申込用紙'!#REF! -> #REF! | G36: ='リレー種目 申込用紙'!#REF! -> #REF! | H36: ='リレー種目 申込用紙'!#REF! -> #REF! | I36: ='リレー種目 申込用紙'!#REF! -> #REF! | J36: ='リレー種目 申込用紙'!#REF! -> #REF!
A37: ='リレー種目 申込用紙'!#REF! -> #REF! | B37: ='リレー種目 申込用紙'!#REF! -> #REF! | C37: ='リレー種目 申込用紙'!#REF! -> #REF! | G37: ='リレー種目 申込用紙'!#REF! -> #REF! | H37: ='リレー種目 申込用紙'!#REF! -> #REF! | I37: ='リレー種目 申込用紙'!#REF! -> #REF! | J37: ='リレー種目 申込用紙'!#REF! -> #REF!
A38: ='リレー種目 申込用紙'!#REF! -> #REF! | B38: ='リレー種目 申込用紙'!#REF! -> #REF! | C38: ='リレー種目 申込用紙'!#REF! -> #REF! | G38: ='リレー種目 申込用紙'!#REF! -> #REF! | H38: ='リレー種目 申込用紙'!#REF! -> #REF! | I38: ='リレー種目 申込用紙'!#REF! -> #REF! | J38: ='リレー種目 申込用紙'!#REF! -> #REF!
... A61: ='リレー種目 申込用紙'!#REF! -> #REF! | B61: ='リレー種目 申込用紙'!#REF! -> #REF! | C61: ='リレー種目 申込用紙'!#REF! -> #REF! | G61: ='リレー種目 申込用紙'!#REF! -> #REF! | H61: ='リレー種目 申込用紙'!#REF! -> #REF! | I61: ='リレー種目 申込用紙'!#REF! -> #REF! | J61: ='リレー種目 申込用紙'!#REF! -> #REF!
